BEGIN:VCALENDAR
VERSION:2.0
PRODID:-//wp-events-plugin.com//7.2.3.1//EN
TZID:Europe/Berlin
X-WR-TIMEZONE:Europe/Berlin
BEGIN:VEVENT
UID:48@marketingclub-muenchen.de
DTSTART;TZID=Europe/Berlin:20080916T193000
DTEND;TZID=Europe/Berlin:20080916T210000
DTSTAMP:20160108T105208Z
URL:https://www.marketingclub-muenchen.de/veranstaltungen/alles-knigge-ode
 r-was/
SUMMARY:Alles Knigge oder was? - Marketing Club München
DESCRIPTION:Wer begrüßt zuerst wen\, wie sieht eigentlich guter Small-Tal
 k aus und welche Dresscodes sollte man beachten - diese und andere Fragen 
 beschäftigen Menschen\, die sich an die Business-Etikette halten möchten
 . Die Antworten darauf\, spannende Hintergründe und Anekdoten\, lieferte 
 Business-Knigge-Spezialistin Sabine Schwind von Egelstein am 16.09.08 den 
 Mitgliedern des Marketing-Club München.
CATEGORIES:Rückblick,Vortrag
LOCATION:IHK Akademie\, Orleanstr. 10 - 12\, 81699 München
GEO:48.12443649999999;11.59843890000002
X-APPLE-STRUCTURED-LOCATION;VALUE=URI;X-ADDRESS=Orleanstr. 10 - 12\, Münch
 en\, 81699\, Deutschland;X-APPLE-RADIUS=100;X-TITLE=IHK Akademie:geo:48.12
 443649999999,11.59843890000002
END:VEVENT
BEGIN:VTIMEZONE
TZID:Europe/Berlin
X-LIC-LOCATION:Europe/Berlin
BEGIN:DAYLIGHT
DTSTART:20080330T030000
TZOFFSETFROM:+0100
TZOFFSETTO:+0200
TZNAME:CEST
END:DAYLIGHT
END:VTIMEZONE
END:VCALENDAR