BEGIN:VCALENDAR
VERSION:2.0
PRODID:-//wp-events-plugin.com//7.2.3.1//EN
TZID:Europe/Berlin
X-WR-TIMEZONE:Europe/Berlin
BEGIN:VEVENT
UID:108@marketingclub-muenchen.de
DTSTART;TZID=Europe/Berlin:20140327T193000
DTEND;TZID=Europe/Berlin:20140327T210000
DTSTAMP:20160118T185825Z
URL:https://www.marketingclub-muenchen.de/veranstaltungen/9-5x5-praesentat
 ionsforum/
SUMMARY:9. 5x5 Präsentationsforum - Marketing Club München
DESCRIPTION:Das 9. Präsentationsforum mit Peter Höger\, Bettina Sturm\, M
 ichael Kastner\, Alexander Bohnenstengel und Debora Ernst\, bewertet von W
 illy Ratzinger\, Jean-Marie Bottequin und Bernd Melka\, moderiert von Thom
 as Grund
ATTACH;FMTTYPE=image/jpeg:https://www.marketingclub-muenchen.de/wp-content
 /uploads/Präsentatinosforum2014.jpg
CATEGORIES:MCM Academy,Netzwerk
END:VEVENT
BEGIN:VTIMEZONE
TZID:Europe/Berlin
X-LIC-LOCATION:Europe/Berlin
BEGIN:STANDARD
DTSTART:20131027T020000
TZOFFSETFROM:+0200
TZOFFSETTO:+0100
TZNAME:CET
END:STANDARD
END:VTIMEZONE
END:VCALENDAR