BEGIN:VCALENDAR
VERSION:2.0
PRODID:-//wp-events-plugin.com//7.2.3.1//EN
TZID:Europe/Berlin
X-WR-TIMEZONE:Europe/Berlin
BEGIN:VEVENT
UID:116@marketingclub-muenchen.de
DTSTART;TZID=Europe/Berlin:20090122T193000
DTEND;TZID=Europe/Berlin:20090122T210000
DTSTAMP:20160228T171305Z
URL:https://www.marketingclub-muenchen.de/veranstaltungen/7-kamingespraech
 -jims/
SUMMARY:7. Kamingespräch: Bernd m. Michael - Marketing Club München
DESCRIPTION:Inzwischen eine echte Tradition\, werden die aktivsten unter de
 n JiMs wieder zum Kamingespräch eingeladen. Bernd M. Michael gilt als ein
 er der renommiertesten Markenprofis in Europa. 
ATTACH;FMTTYPE=image/jpeg:https://www.marketingclub-muenchen.de/wp-content
 /uploads/JuMPDay.jpg
CATEGORIES:Marketing Pioniere
LOCATION:Paulaner am Nockherberg\, Hochstraße 77\, 81541 München
GEO:48.121869;11.58231
X-APPLE-STRUCTURED-LOCATION;VALUE=URI;X-ADDRESS=Hochstraße 77\, München\,
  Bayern\, 81541\, Deutschland;X-APPLE-RADIUS=100;X-TITLE=Paulaner am Nockh
 erberg:geo:48.121869,11.58231
END:VEVENT
BEGIN:VTIMEZONE
TZID:Europe/Berlin
X-LIC-LOCATION:Europe/Berlin
BEGIN:STANDARD
DTSTART:20081026T020000
TZOFFSETFROM:+0200
TZOFFSETTO:+0100
TZNAME:CET
END:STANDARD
END:VTIMEZONE
END:VCALENDAR