BEGIN:VCALENDAR
VERSION:2.0
PRODID:-//wp-events-plugin.com//7.2.3.1//EN
TZID:Europe/Berlin
X-WR-TIMEZONE:Europe/Berlin
BEGIN:VEVENT
UID:205@marketingclub-muenchen.de
DTSTART;TZID=Europe/Berlin:20070712T193000
DTEND;TZID=Europe/Berlin:20070712T223000
DTSTAMP:20160219T093356Z
URL:https://www.marketingclub-muenchen.de/veranstaltungen/7-debatingjims-t
 rends-in-der-lebensmittelindustrie-auswirkungen-fuer-markenhersteller-und-
 handelsunternehmen/
SUMMARY:7. Debating@JiMs - Trends in der Lebensmittelindustrie - Auswirkung
 en für Markenhersteller und Handelsunternehmen - Marketing Club München
DESCRIPTION:Am 12. Juli durften knapp 20 Junioren den spannenden Vortrag de
 r inventGroup verfolgen. Die Referenten Florian Waubke und Ulrich Seidel e
 ntführten das Auditorium in die Welt der Lebensmittelhersteller und des H
 andels.
ATTACH;FMTTYPE=image/jpeg:https://www.marketingclub-muenchen.de/wp-content
 /uploads/2016/02/debatingjim7.jpg
CATEGORIES:Marketing Pioniere
LOCATION:Kanzlei Osborne Clarke\, Nymphenburger Str. 1\, 80335 München
GEO:48.1471589;11.557976999999937
X-APPLE-STRUCTURED-LOCATION;VALUE=URI;X-ADDRESS=Nymphenburger Str. 1\, Mün
 chen\, 80335\, Deutschland;X-APPLE-RADIUS=100;X-TITLE=Kanzlei Osborne Clar
 ke:geo:48.1471589,11.557976999999937
END:VEVENT
BEGIN:VTIMEZONE
TZID:Europe/Berlin
X-LIC-LOCATION:Europe/Berlin
BEGIN:DAYLIGHT
DTSTART:20070325T030000
TZOFFSETFROM:+0100
TZOFFSETTO:+0200
TZNAME:CEST
END:DAYLIGHT
END:VTIMEZONE
END:VCALENDAR