BEGIN:VCALENDAR
VERSION:2.0
PRODID:-//wp-events-plugin.com//7.2.3.1//EN
TZID:Europe/Berlin
X-WR-TIMEZONE:Europe/Berlin
BEGIN:VEVENT
UID:105@marketingclub-muenchen.de
DTSTART;TZID=Europe/Berlin:20150318T193000
DTEND;TZID=Europe/Berlin:20150318T210000
DTSTAMP:20160118T185350Z
URL:https://www.marketingclub-muenchen.de/veranstaltungen/5x5-praesentatio
 nsforum-3/
SUMMARY:10. 5x5 Präsentationsforum - Marketing Club München
DESCRIPTION:Das eigene Unternehmen oder ein neues Produkt in fünf Minuten 
 einem potenziellen Auftraggeber vorzustellen und fundiertes Feedback von d
 rei Experten zu bekommen\, ist der Kern des 5x5 Präsentationsforums.
ATTACH;FMTTYPE=image/jpeg:https://www.marketingclub-muenchen.de/wp-content
 /uploads/Geschäftsstelle-e1453130523373.jpg
CATEGORIES:MCM Academy,Netzwerk
LOCATION:MCM Geschäftsstelle\, Edelsbergstr. 8\, 80686  München
GEO:48.124993;11.520350199999939
X-APPLE-STRUCTURED-LOCATION;VALUE=URI;X-ADDRESS=Edelsbergstr. 8\, München\
 , 80686 \, Deutschland;X-APPLE-RADIUS=100;X-TITLE=MCM Geschäftsstelle:geo
 :48.124993,11.520350199999939
END:VEVENT
BEGIN:VTIMEZONE
TZID:Europe/Berlin
X-LIC-LOCATION:Europe/Berlin
BEGIN:STANDARD
DTSTART:20141026T020000
TZOFFSETFROM:+0200
TZOFFSETTO:+0100
TZNAME:CET
END:STANDARD
END:VTIMEZONE
END:VCALENDAR