BEGIN:VCALENDAR
VERSION:2.0
PRODID:-//wp-events-plugin.com//7.2.3.1//EN
TZID:Europe/Berlin
X-WR-TIMEZONE:Europe/Berlin
BEGIN:VEVENT
UID:591@marketingclub-muenchen.de
DTSTART;TZID=Europe/Berlin:20220913T183000
DTEND;TZID=Europe/Berlin:20220913T213000
DTSTAMP:20220915T125345Z
URL:https://www.marketingclub-muenchen.de/veranstaltungen/50-jahre-olympia
 -eine-e-bike-tour-durch-den-olympiapark/
SUMMARY:50 Jahre Olympia – Eine E-Bike-Tour durch den Olympiapark - Marke
 ting Club München
DESCRIPTION:Olympia 1972\, die Spiele der kurzen Wege. Zum 50-jährigen Jub
 iläum der Spiele von 1972 und im Nachgang zu den European Championships h
 aben wir den einzigartigen Olympiaparks besucht. Von Architektur bis Zweit
 nutzungskonzept – per E-Bike\, mit Spaß und vielen interessanten Insigh
 ts!\n
ATTACH;FMTTYPE=image/jpeg:https://www.marketingclub-muenchen.de/wp-content
 /uploads/220913_Olympia-E-Bike-Tour_Teaser_Rueckblick.png
CATEGORIES:Netzwerk,Rückblick,Vortrag
LOCATION:Olympiapark\, Treffpunkt Besucherservice\, neben dem Eissport-Zent
 rum\, Spiridon-Louis-Ring 3\, 80809 München
X-APPLE-STRUCTURED-LOCATION;VALUE=URI;X-ADDRESS=Spiridon-Louis-Ring 3\, Mü
 nchen\, Bayern\, 80809\, Deutschland;X-APPLE-RADIUS=100;X-TITLE=Olympiapar
 k\, Treffpunkt Besucherservice\, neben dem Eissport-Zentrum:geo:0,0
END:VEVENT
BEGIN:VTIMEZONE
TZID:Europe/Berlin
X-LIC-LOCATION:Europe/Berlin
BEGIN:DAYLIGHT
DTSTART:20220327T030000
TZOFFSETFROM:+0100
TZOFFSETTO:+0200
TZNAME:CEST
END:DAYLIGHT
END:VTIMEZONE
END:VCALENDAR