BEGIN:VCALENDAR
VERSION:2.0
PRODID:-//wp-events-plugin.com//7.2.3.1//EN
TZID:Europe/Berlin
X-WR-TIMEZONE:Europe/Berlin
BEGIN:VEVENT
UID:424@marketingclub-muenchen.de
DTSTART;TZID=Europe/Berlin;VALUE=DATE:20191023
DTEND;TZID=Europe/Berlin;VALUE=DATE:20191026
DTSTAMP:20191022T200107Z
URL:https://www.marketingclub-muenchen.de/veranstaltungen/33-medientage-mu
 enchen-next-digital-level-lets-build-the-media-we-want/
SUMMARY:33. MEDIENTAGE MÜNCHEN - Marketing Club München
DESCRIPTION:Der MCM ist Partner der MEDIENTAGE MÜNCHEN 2019. \nUnsere Mitg
 lieder erhalten 15 % Rabatt auf die Ticket-Kategorien: \nDay Pass\, 3-Day 
 Pass\, Conference Plus\, Conference Gold.\nDer rabattierte Ticketkauf gilt
  ausschließlich für Mitglieder des MCM und ist auf insgesamt 50 Tickets 
 limitiert. \n
ATTACH;FMTTYPE=image/jpeg:https://www.marketingclub-muenchen.de/wp-content
 /uploads/teaser-mcm-medientage-2019.jpg
CATEGORIES:Kooperation
LOCATION:ICM München\, Paul-Henri-Spaak Str. 18\, 81829 München
X-APPLE-STRUCTURED-LOCATION;VALUE=URI;X-ADDRESS=Paul-Henri-Spaak Str. 18\, 
 München\, 81829\, Deutschland;X-APPLE-RADIUS=100;X-TITLE=ICM München:geo
 :0,0
END:VEVENT
BEGIN:VTIMEZONE
TZID:Europe/Berlin
X-LIC-LOCATION:Europe/Berlin
BEGIN:DAYLIGHT
DTSTART:20190331T030000
TZOFFSETFROM:+0100
TZOFFSETTO:+0200
TZNAME:CEST
END:DAYLIGHT
END:VTIMEZONE
END:VCALENDAR