BEGIN:VCALENDAR
VERSION:2.0
PRODID:-//wp-events-plugin.com//7.2.3.1//EN
TZID:Europe/Berlin
X-WR-TIMEZONE:Europe/Berlin
BEGIN:VEVENT
UID:489@marketingclub-muenchen.de
DTSTART;TZID=Europe/Berlin:20200723T123000
DTEND;TZID=Europe/Berlin:20200723T133000
DTSTAMP:20200701T121457Z
URL:https://www.marketingclub-muenchen.de/veranstaltungen/3-science-meets-
 business-session/
SUMMARY:Nachhaltigkeit 2.0 – Wie Sie Konsumenten im Wandel heute zu mehr 
 Bewusstsein morgen unterstützen können - Marketing Club München
DESCRIPTION:3. Science meets Business Session im Rahmen des 46. Münchener 
 Marketing-Symposium
ATTACH;FMTTYPE=image/jpeg:https://www.marketingclub-muenchen.de/wp-content
 /uploads/3.science-meets-business-session.jpg
CATEGORIES:Kooperation,Online-Vortrag,Science Insights,Vortrag
END:VEVENT
BEGIN:VTIMEZONE
TZID:Europe/Berlin
X-LIC-LOCATION:Europe/Berlin
BEGIN:DAYLIGHT
DTSTART:20200329T030000
TZOFFSETFROM:+0100
TZOFFSETTO:+0200
TZNAME:CEST
END:DAYLIGHT
END:VTIMEZONE
END:VCALENDAR