BEGIN:VCALENDAR
VERSION:2.0
PRODID:-//wp-events-plugin.com//7.2.3.1//EN
TZID:Europe/Berlin
X-WR-TIMEZONE:Europe/Berlin
BEGIN:VEVENT
UID:382@marketingclub-muenchen.de
DTSTART;TZID=Europe/Berlin:20181023T090000
DTEND;TZID=Europe/Berlin:20181023T170000
DTSTAMP:20180830T132026Z
URL:https://www.marketingclub-muenchen.de/veranstaltungen/2-digital-market
 ing-4heroes-conference/
SUMMARY:2. DIGITAL MARKETING 4HEROES Conference - Marketing Club München
DESCRIPTION:2. DIGITAL MARKETING 4HEROES Conference\n\nMit 4 unterschiedlic
 hen Schwerpunkt-Themen im Fokus präsentiert sich bereits zum 2. Mal die 1
 -tägige Digital Marketing Konferenz in München. Unter dem Titel 4Heroes 
 referieren Branchenkenner über aktuelle Trends\, Produkt-Innovationen und
  praxistaugliche Lösungen des Digitalen Marketings. \n
ATTACH;FMTTYPE=image/jpeg:https://www.marketingclub-muenchen.de/wp-content
 /uploads/4heroes-marketing-club-muenchen-1200.jpg
CATEGORIES:Kooperation
LOCATION:Novotel München City\, Hochstraße 11\, 81669 München
GEO:48.1294074;11.589362499999993
X-APPLE-STRUCTURED-LOCATION;VALUE=URI;X-ADDRESS=Hochstraße 11\, München\,
  Bayern\, 81669\, Deutschland;X-APPLE-RADIUS=100;X-TITLE=Novotel München 
 City:geo:48.1294074,11.589362499999993
END:VEVENT
BEGIN:VTIMEZONE
TZID:Europe/Berlin
X-LIC-LOCATION:Europe/Berlin
BEGIN:DAYLIGHT
DTSTART:20180325T030000
TZOFFSETFROM:+0100
TZOFFSETTO:+0200
TZNAME:CEST
END:DAYLIGHT
END:VTIMEZONE
END:VCALENDAR