BEGIN:VCALENDAR
VERSION:2.0
PRODID:-//wp-events-plugin.com//7.2.3.1//EN
TZID:Europe/Berlin
X-WR-TIMEZONE:Europe/Berlin
BEGIN:VEVENT
UID:351@marketingclub-muenchen.de
DTSTART;TZID=Europe/Berlin:20180201T130000
DTEND;TZID=Europe/Berlin:20180201T180000
DTSTAMP:20180104T103659Z
URL:https://www.marketingclub-muenchen.de/veranstaltungen/15-muenchner-age
 nturgipfel-kreativ-was-sonst/
SUMMARY:15. Münchner Agenturgipfel: Kreativ - was sonst? - Marketing Club 
 München
DESCRIPTION:„Kreativität ist Intelligenz\, die Spaß hat“\, erklärte 
 Albert Einstein seiner Zeit. Der Agenturgipfel greift die Worte des berüh
 mten Physikers auf und betrachtet Kreativität aus unterschiedlichen Blick
 winkeln. In spannenden Workshops erhalten Sie Tipps für die Praxis.\n\nKr
 eativität – was ist das eigentlich? Kann man das messen? Anfassen? Stei
 gern? Killen? Mit diesen Fragen startet Digital-Botschafter Patrick Breite
 nbach in den Nachmittag.\n\nDr. Pascal Volz war Vice President E-Commerce 
 &amp\; Online Sales bei airberlin. Er zeigt\, wie man mithilfe von Big Dat
 a erst richtig kreativ wird.\n\nErfahren Sie außerdem von Experten\, wie 
 Sie Ihr kreatives Potenzial gewinnbringend einsetzen.\n\nZielgruppe der Ve
 ranstaltung sind Agenturen sowie Vertreter aus der Unternehmenskommunikati
 on. Die Workshops finden parallel statt. Bitte entscheiden Sie sich bereit
 s bei der Anmeldung\,\nwelchen Sie besuchen möchten.\n\nSparen Sie 15% be
 i der Anmeldung\nAls Kooperationspartner des 15. Agenturgipfel dürfen wir
  Sie als Mitglied mit einem Nachlass von 15% auf die Teilnahmegebühr einl
 aden.\n\nBitte melden Sie sich direkt auf der IHK-Seite an und vermerken S
 ie im Schritt "Zusammenfassung" im Bemerkungsfeld dann "Marketing Club M
 ünchen"\n\nSie erhalten das Ticket dann für 80\,76 € anstatt 94\,01 
 €\nAgenda\n13:00 Uhr Registrierung\n\n13:30 Uhr Begrüßung\n\n 	Franzis
 ka Neuberger\, IHK für München und Oberbayern\n 	Martin Becker\, AIKA\n 
 	Petra Lorenz\, CommClubs Bayern\n 	Dr. Annegret Haffa\, DPRG\n 	Dietmar T
 urocha\, Marketing Club München\n\n13:45 Uhr Business-Speeddating\n\n14:1
 5 Uhr Alles Leben ist Problemlösen – Kreativität &amp\; Innovation\n\n
  	Patrick Breitenbach\, Head of Brand Consulting &amp\; Strategic Innovati
 on\, ZDF Digital\n\n14:45 Uhr Big Data: Treibstoff für Kreativität?\n\n 
 	Dr. Pascal Volz\, Geschäftsführer\, fischerAppelt\, performance\n\n15:1
 5 Uhr Kaffeepause\n\n15:30 Uhr Vorstellung Workshops\n\n15:45 Uhr Workshop
 s\n\n 	Einführung Design Thinking\nIsabela Plambeck\, Innovation Coach\, 
 creaffective\n 	Kreatives Community Management mit Charakter\nClaudia Leis
 chner\, General Manager\, gyro communications GmbH\nDavid Lemmer\, Digital
  Content Strategist\n 	Storytelling in der digitalen Kommunikation\nKatrin
  Kuch\, Business Unit Director Digital Communications\, Storymaker\n 	Mita
 rbeiterzufriedenheit und Gesundheit – mehr als ein Spiel\nHolger Winkels
 träter\, Leiter Marketing &amp\; Kommunikation\, Caverion\nAndreas Lenge\
 , Geschäftsführer Instingo\nStephan Becker-Sonnenschein\, Gesellschafter
  Instingo\n\n17:15 Uhr Couchgespräch zu den Workshops\n\nModeration: Leif
  Pellikan\, w&amp\;v\nAnmeldung\nBitte melden Sie sich direkt auf der IHK-
 Seite an (Stichwort: Marketing Club München)\n\n&nbsp\;\n\nBildnachweis:\
 nGestaltung der Grafik: Word Wide KG\, München\; Bildnachweis: Fotolia ©
 your123\n\n&nbsp\;
ATTACH;FMTTYPE=image/jpeg:https://www.marketingclub-muenchen.de/wp-content
 /uploads/teaser-agenturgipfel-ihk.jpg
CATEGORIES:Kooperation,Vortrag
LOCATION:IHK Akademie\, Orleanstr. 10 - 12\, 81699 München
GEO:48.12443649999999;11.59843890000002
X-APPLE-STRUCTURED-LOCATION;VALUE=URI;X-ADDRESS=Orleanstr. 10 - 12\, Münch
 en\, 81699\, Deutschland;X-APPLE-RADIUS=100;X-TITLE=IHK Akademie:geo:48.12
 443649999999,11.59843890000002
END:VEVENT
BEGIN:VTIMEZONE
TZID:Europe/Berlin
X-LIC-LOCATION:Europe/Berlin
BEGIN:STANDARD
DTSTART:20171029T020000
TZOFFSETFROM:+0200
TZOFFSETTO:+0100
TZNAME:CET
END:STANDARD
END:VTIMEZONE
END:VCALENDAR