BEGIN:VCALENDAR
VERSION:2.0
PRODID:-//wp-events-plugin.com//7.2.3.1//EN
TZID:Europe/Berlin
X-WR-TIMEZONE:Europe/Berlin
BEGIN:VEVENT
UID:706@marketingclub-muenchen.de
DTSTART;TZID=Europe/Berlin:20250917T094500
DTEND;TZID=Europe/Berlin:20250918T162000
DTSTAMP:20250827T072909Z
URL:https://www.marketingclub-muenchen.de/veranstaltungen/12491/
SUMMARY:Einladung zur DMEXCO - Marketing Club München
DESCRIPTION:Am 17. und 18. September 2025 findet in Köln die DMEXCO statt.
  Der BVMC stellt Euch ein Kontingent an Freitickets zur Verfügung – fir
 st come\, first served!
ATTACH;FMTTYPE=image/jpeg:https://www.marketingclub-muenchen.de/wp-content
 /uploads/DMEXCO25_640x366.jpg
CATEGORIES:BVMC,Kooperation,Tagung
END:VEVENT
BEGIN:VTIMEZONE
TZID:Europe/Berlin
X-LIC-LOCATION:Europe/Berlin
BEGIN:DAYLIGHT
DTSTART:20250330T030000
TZOFFSETFROM:+0100
TZOFFSETTO:+0200
TZNAME:CEST
END:DAYLIGHT
END:VTIMEZONE
END:VCALENDAR