BEGIN:VCALENDAR
VERSION:2.0
PRODID:-//wp-events-plugin.com//7.2.3.1//EN
TZID:Europe/Berlin
X-WR-TIMEZONE:Europe/Berlin
BEGIN:VEVENT
UID:487@marketingclub-muenchen.de
DTSTART;TZID=Europe/Berlin:20200721T123000
DTEND;TZID=Europe/Berlin:20200721T133000
DTSTAMP:20200701T121534Z
URL:https://www.marketingclub-muenchen.de/veranstaltungen/1-science-meets-
 business-session/
SUMMARY:Der Balanceakt zwischen Personalisierung und Datenschutz – Wie Si
 e Werbung mit Konsumentendaten individualisieren - Marketing Club München
DESCRIPTION:1. Science meets Business Session im Rahmen des 46. Münchener 
 Marketing-Symposium
ATTACH;FMTTYPE=image/jpeg:https://www.marketingclub-muenchen.de/wp-content
 /uploads/1.science-meets-business-session.jpg
CATEGORIES:Kooperation,Online-Vortrag,Science Insights,Vortrag
END:VEVENT
BEGIN:VTIMEZONE
TZID:Europe/Berlin
X-LIC-LOCATION:Europe/Berlin
BEGIN:DAYLIGHT
DTSTART:20200329T030000
TZOFFSETFROM:+0100
TZOFFSETTO:+0200
TZNAME:CEST
END:DAYLIGHT
END:VTIMEZONE
END:VCALENDAR